﻿BEGIN:VCALENDAR
VERSION:2.0
PRODID:-//Public Defense Commission - ECPv5.3.2.1//NONSGML v1.0//EN
CALSCALE:GREGORIAN
METHOD:PUBLISH
X-WR-CALNAME:Public Defense Commission
X-ORIGINAL-URL:https://pdc.idaho.gov
X-WR-CALDESC:Events for Public Defense Commission
BEGIN:VTIMEZONE
TZID:America/Denver
BEGIN:DAYLIGHT
TZOFFSETFROM:-0700
TZOFFSETTO:-0600
TZNAME:MDT
DTSTART:20190310T090000
END:DAYLIGHT
BEGIN:STANDARD
TZOFFSETFROM:-0600
TZOFFSETTO:-0700
TZNAME:MST
DTSTART:20191103T080000
END:STANDARD
END:VTIMEZONE
BEGIN:VEVENT
DTSTART;VALUE=DATE:20190412
DTEND;VALUE=DATE:20190414
DTSTAMP:20210601T160259
CREATED:20190201T200734Z
LAST-MODIFIED:20190201T200734Z
UID:2449-1555027200-1555199999@pdc.idaho.gov
SUMMARY:IACDL Sun Valley Conference
DESCRIPTION:The Idaho State Public Defense Commission in partnership with IACDL is pleased to invite you to the\n2019 Sun Valley Conference\nFriday and Saturday\, April 12-13\, 2019\, at the Sun Valley Inn \nThe Public Defense Commission is excited to offer all institutional and contract public defenders across the state an opportunity to attend the IACDL Sun Valley Conference at a reduced cost.  The PDC will cover the cost of registration and two nights lodging at the Sun Valley Inn for all public defenders that are interested in attending.  The two-day conference will offer an approach to trial work that takes a proactive posture towards presenting a defense and going to trial.   IACDL has arranged for a number of wonderful presenters from around the country to share their wisdom and years of experience\, including: \nTamara Brady\, who has represented some of the most high-profile defendants in Colorado\, including James Holmes\, the Aurora Theater shooter\, \nJason Ser\, a federal public defender from the Eastern and Southern District of New York\, \nBrett Willis\, a trial attorney from Georgia who also serves on the faculty of the National Criminal Defense College\, \nKeith Belzer\, a seasoned attorney in private practice in Wisconsin\, a few years ago NACDL named him one of their top speakers\, \nand Andre Vitale\, who is the training director for the Rochester\, NY public defender office and serves on the faculties of Gideon’s Promise and the Bronx Defenders Trial Academy. \nThere will also be presentations from our own: \nMike Palmer\, an attorney in private practice from Coeur d’Alene\, \nScott McKay\, an attorney in private practice from Boise\, \nMaya Waldron and Jenny Swinford\, from the State Appellate Public Defenders’ Office\, who will give us a case update\, \nand a 2019 Legislative Update presented by Paul Riggins and Andrew Masser. \nThe Public Defense Commission will provide the cost of registration for the conference and two nights lodging at the Sun Valley Inn. A modest travel stipend will also be available for those driving/flying a distance of 200 miles or more one way. If there are any small groups interested in sharing a condo please contact me so that I can obtain the necessary information to check on availability. Additional travel and lodging information will be provided upon receipt of registration. \nFriday night\, IACDL will be hosting their annual Banquet. In addition to great food\, conversation\, and the IACDL yearly Awards Presentation\, they will have a keynote address from Andre Vitale\, entitled “The Successful Transformation from a Criminal Litigation Attorney to a Client Centered Advocate.” This year\, IACDL will also be holding a silent auction and fundraiser that evening\, with the proceeds going towards our lobbying and criminal justice reform efforts. \n PDC Registration Closed  \nThe PDC has received a tremendous amount of response on the Sun Valley Conference\, so great in fact that all of our slots have been filled and we have closed registration.  \nTo all who submitted registration forms\, thank you.  For those who did not submit a registration form but would still like to attend\, you may register with IACDL directly their website.  Unfortunately the PDC will not be able to cover any portion of your expenses to attend the conference. \nThank you so much for your interest in this training\, we look forward to seeing all of you in Sun Valley.   \nIf you have any questions regarding the details of the conference\, or logistics\, please contact Nichole Devaney\, at (208) 332-1735 or nichole.devaney@multisite.idaho.gov/pdc-old. \nWe look forward to seeing you.
URL:https://pdc.idaho.gov/event/iacdl-sun-valley-conference-3/
CATEGORIES:MCLE
END:VEVENT
END:VCALENDAR