﻿BEGIN:VCALENDAR
VERSION:2.0
PRODID:-//Public Defense Commission - ECPv5.3.2.1//NONSGML v1.0//EN
CALSCALE:GREGORIAN
METHOD:PUBLISH
X-WR-CALNAME:Public Defense Commission
X-ORIGINAL-URL:https://pdc.idaho.gov
X-WR-CALDESC:Events for Public Defense Commission
BEGIN:VTIMEZONE
TZID:America/Boise
BEGIN:DAYLIGHT
TZOFFSETFROM:-0700
TZOFFSETTO:-0600
TZNAME:MDT
DTSTART:20190310T090000
END:DAYLIGHT
BEGIN:STANDARD
TZOFFSETFROM:-0600
TZOFFSETTO:-0700
TZNAME:MST
DTSTART:20191103T080000
END:STANDARD
END:VTIMEZONE
BEGIN:VEVENT
DTSTART;TZID=America/Boise:20191212T080000
DTEND;TZID=America/Boise:20191213T170000
DTSTAMP:20211019T044624
CREATED:20190923T221354Z
LAST-MODIFIED:20190923T221354Z
UID:2467-1576137600-1576256400@pdc.idaho.gov
SUMMARY:Non-PDC Training: Multidisciplinary Child Protection Training
DESCRIPTION:Registration is live for the 2019 Safely Together: Tools to Achieve Safe and Speedier Permanency\nThe Administrative Office of the Idaho Supreme Court and the Idaho Department of Health and Welfare are co-hosting a regional training on using safety planning\, concurrent planning and case planning to safely return a child home at the earliest opportunity in the case.\nThis training is 1 and 1/2 days long. The trainings will be offered at no cost in the comfort of your very own district/region! \nEach county is asked to send a team consisting of the judge\, prosecutor\, public defender\, deputy attorney general\, attorney for the child\, IDHW staff\, GAL staff\, volunteers and attorney. \nYou do not want to miss this important conference! Travel\, lodging and perform for judges will be provided. Travel and/or lodging is available for others within the state. To request travel assistance and/or lodging please choose the appropriate add-on item during registration. \nIf you have any questions\, please contact Child and Family Services Central Office Policy Team at CWpolicy@dhw.idaho.gov. \nPlease register in your district/region. If you are unable to attend in you region\, please feel free to attend in your neighboring region. Thank you. \nThis is the link to register for the First District Conference in CDA on Oct. 24-25. \nhttps://www.eventbrite.com/e/2019-safely-together-tools-to-achieve-safe-and-speedier-permanency-first-district-tickets-71439039089 \nThis is the link to register for the Second District Conference in Lewiston on Oct. 10-11. \nhttps://www.eventbrite.com/e/2019-safely-together-tools-to-achieve-safe-and-speedier-permanency-second-district-tickets-71535184663 \nThis is the link to register for the Third District Conference in Nampa on Dec. 5-6. \nhttps://www.eventbrite.com/e/2019-safely-together-tools-to-achieve-safe-and-speedier-permanency-third-district-tickets-71521614073 \nThis is the link to register for the Fourth District Conference in Boise on Dec. 12-13. \nhttps://www.eventbrite.com/e/2019-safely-together-tools-to-achieve-safe-and-speedier-permanency-fourth-district-tickets-71522446563 \nThis is the link to register for the Fifth District Conference in Twin Falls on Nov. 21-22. \nhttps://www.eventbrite.com/e/2019-safely-together-tools-to-achieve-safe-and-speedier-permanency-fifth-district-tickets-71440782303 \nThis is the link to register for the Sixth and Seventh District Conference in Idaho Falls on Nov. 7-8. \nhttps://www.eventbrite.com/e/2019-safely-together-tools-to-achieve-safe-and-speedier-permanency-sixth-and-seventh-districts-tickets-71440080203
URL:https://pdc.idaho.gov/event/non-pdc-training-multidisciplinary-child-protection-training-2/2019-12-12/
CATEGORIES:MCLE
END:VEVENT
END:VCALENDAR